BEGIN:VCALENDAR
VERSION:2.0
PRODID:-//Life Your Way
CALSCALE:GREGORIAN
METHOD:PUBLISH
X-WR-CALNAME:Life Your Way
X-ORIGINAL-URL:https://lifeyourway.au/product/pgc-big-boyz-card-show-19-4-26/
X-WR-CALDESC:PGC &#8211; Big Boyz Card Show &#8211; 19.4.26
BEGIN:VTIMEZONE
TZID:Australia/Melbourne
END:VTIMEZONE
BEGIN:VEVENT
DTSTART;TZID=Australia/Melbourne:20260419T090000
DTEND;TZID=Australia/Melbourne:20260419T130000
DTSTAMP:20260421T083934
UID:7164-services@wynnesps.com.au
SUMMARY:PGC – Big Boyz Card Show – 19.4.26
DESCRIPTION:A great day out for collectors of all kinds — come along, explore, trade, and enjoy the excitement of the Big Boyz Card Show! &nbsp;
URL:https://lifeyourway.au/product/pgc-big-boyz-card-show-19-4-26/
LOCATION:
END:VEVENT
END:VCALENDAR
