BEGIN:VCALENDAR
VERSION:2.0
PRODID:-//Life Your Way
CALSCALE:GREGORIAN
METHOD:PUBLISH
X-WR-CALNAME:Life Your Way
X-ORIGINAL-URL:https://lifeyourway.au/product/pgc-banksy-limitless-immersive-art-experience-9-5-26/
X-WR-CALDESC:PGC &#8211; Banksy Limitless &#8211; Immersive Art Experience &#8211; 9.5.26
BEGIN:VTIMEZONE
TZID:Australia/Melbourne
END:VTIMEZONE
BEGIN:VEVENT
DTSTART;TZID=Australia/Melbourne:20260509T100000
DTEND;TZID=Australia/Melbourne:20260509T160000
DTSTAMP:20260421T083454
UID:7147-services@wynnesps.com.au
SUMMARY:PGC – Banksy Limitless – Immersive Art Experience – 9.5.26
DESCRIPTION:A unique mix of art, culture, and experience — Banksy: Limitless is one you won’t want to miss! &nbsp;
URL:https://lifeyourway.au/product/pgc-banksy-limitless-immersive-art-experience-9-5-26/
LOCATION:
END:VEVENT
END:VCALENDAR
