BEGIN:VCALENDAR
VERSION:2.0
PRODID:-//Life Your Way
CALSCALE:GREGORIAN
METHOD:PUBLISH
X-WR-CALNAME:Life Your Way
X-ORIGINAL-URL:https://lifeyourway.au/product/pgc-trivia-night-odonoghues-18-3-26/
X-WR-CALDESC:PGC &#8211; Trivia Night @ O&#8217;Donoghues &#8211; 18.3.26
BEGIN:VTIMEZONE
TZID:Australia/Melbourne
END:VTIMEZONE
BEGIN:VEVENT
DTSTART;TZID=Australia/Melbourne:20260318T180000
DTEND;TZID=Australia/Melbourne:20260318T210000
DTSTAMP:20260423T085731
UID:7021-services@wynnesps.com.au
SUMMARY:PGC – Trivia Night @ O’Donoghues – 18.3.26
DESCRIPTION:A great night of questions, connection, and community — come along and see if our team can claim the trivia crown! &nbsp;
URL:https://lifeyourway.au/product/pgc-trivia-night-odonoghues-18-3-26/
LOCATION:
END:VEVENT
END:VCALENDAR
